Workbook
Name __AD1: #REF!
Name __AD1: #REF!
Name __D3: #REF!
Name __D3: #REF!
Name __DAT1: #REF!
Name __DAT1: #REF!
Name __DAT10: #REF!
Name __DAT10: #REF!
Name __DAT11: #REF!
Name __DAT11: #REF!
Name __DAT12: #REF!
Name __DAT12: #REF!
Name __DAT2: #REF!
Name __DAT2: #REF!
Name __DAT3: #REF!
Name __DAT3: #REF!
Name __DAT4: #REF!
Name __DAT4: #REF!
Name __DAT5: #REF!
Name __DAT5: #REF!
Name __DAT6: #REF!
Name __DAT6: #REF!
Name __DAT7: #REF!
Name __DAT7: #REF!
Name __DAT8: #REF!
Name __DAT8: #REF!
Name __DAT9: #REF!
Name __DAT9: #REF!
Name __T1: #REF!
Name __T1: #REF!
Name __T2: #REF!
Name __T2: #REF!
Name __T5: #REF!
Name __T5: #REF!
Name _1P68: #REF!
Name _1P68: #REF!
Name _2013PR_SEC95: #N/A
Name _2P68: #REF!
Name _2P68: #REF!
Name _AD1: #REF!
Name _AD1: #REF!
Name _D3: #REF!
Name _D3: #REF!
Name _DAT1: #REF!
Name _DAT1: #REF!
Name _DAT10: #REF!
Name _DAT10: #REF!
Name _DAT11: #REF!
Name _DAT11: #REF!
Name _DAT12: #REF!
Name _DAT12: #REF!
Name _DAT13: #REF!
Name _DAT13: #REF!
Name _DAT14: #REF!
Name _DAT14: #REF!
Name _DAT2: #REF!
Name _DAT2: #REF!
Name _DAT3: #REF!
Name _DAT3: #REF!
Name _DAT4: #REF!

Sheet G1
A1: Recettes | F1: Solde | G1: Dépenses
A2: Niveau 2 - recettes | B2: Mds€ | C2: Niveau 1 - recettes | D2: Mds€ | G2: Niveau 1 | H2: Mds€ | I2: Niveau 2 | J2: Mds€
A3: TVA | B3: 207.8 | C3: Prélèvements sur la consommation | D3: =SUM(B3:B6) -> 309.754 | E3: =SUM(D3:D14) -> 1253.878 | F3: Ensemble des recettes publiques | G3: Protection sociale | H3: 947.477 | I3: Vieillesse | J3: 432.562 | L3: =J3/H$40 -> 0.25861653
A4: Taxes consommation d'énergie | B4: 39.139 | I4: Santé, maladie, invalidité | J4: 338.347 | L4: =J4/H$40 -> 0.20228805
A5: Fiscalité nutritionnelle | B5: 18.355 | I5: Autre Protection sociale | J5: 176.568 | L5: =J5/H$40 -> 0.10556499
A6: Autre | B6: 44.46 | G6: Enseignement | H6: 148.6 | L6: =J6/H$40 -> 0
A7: Cotisations sociales - salariés | B7: 103.776 | C7: Prélèvements sur le revenu des ménages | D7: =SUM(B7:B10) -> 353.271 | G7: Soutien aux activités économiques | H7: 144.644 | I7: Transports | J7: 60.689 | L7: =J7/H$40 -> 0.036284228
A8: CSG | B8: 153.131 | I8: Energie | J8: 15.461 | L8: =J8/H$40 -> 0.0092436925
A9: IR | B9: 96.163 | I9: Autres branches d'activité | J9: 68.494 | L9: =J9/H$40 -> 0.040950616
A10: Autre | B10: 0.201 | G10: Sécurité | H10: 106.3 | I10: Défense | J10: 54.2 | L10: =J10/H$40 -> 0.032404639
A11: Cotisations sociales - employeurs | B11: 328.624 | C11: Prélèvements sur les sociétés | D11: =SUM(B11:B13) -> 499.767 | I11: Ordre et sécurité intérieurs | J11: 52.1 | L11: =J11/H$40 -> 0.031149109
A12: Impôt sur les sociétés (IS) | B12: 67.998 | G12: Services publics généraux | H12: 102.349 | L12: =H12/H$40 -> 0.061191558
A13: Autres impôts sur la production | B13: 103.145 | G13: Charge d'intérêts sur la dette publique | H13: 58.87 | L13: =H13/H$40 -> 0.0351967
C14: Prélèvements sur le capital | D14: 91.086 | G14: Appuis à la recherche | H14: 51.466 | I14: Recherche fondamentale | J14: 19.881 | L14: =J14/H$40 -> 0.011886285
C15: Recettes non fiscales | E15: =F40-E3-E16 -> 146.722 | I15: R & D | J15: 31.585 | L15: =J15/H$40 -> 0.018883774
C16: Autres recettes | E16: 102.9 | G16: Autre | H16: =H40-SUM(H3:H15) -> 112.894 | L16: =H16/H$40 -> 0.067496114
C17: Besoins de financement | E17: =SUM(H3:H16)-SUM(E3:E16) -> 169.1 | F17: Deficit
A19: Recettes | F19: Solde | G19: Dépenses
A20: Niveau 2 - recettes | B20: % PIB | C20: Niveau 1 - recettes | D20: % PIB | G20: Niveau 1 | H20: % PIB | I20: Niveau 2 | J20: % PIB
A21: TVA | B21: =B3/$F$48 -> 0.070794989 | C21: Prélèvements sur la consommation | D21: =D3/$F$48 -> 0.1055295 | E21: =SUM(D21:D32) -> 0.42718132 | F21: Ensemble des recettes publiques | G21: Protection sociale | H21: =H3/$F$48 -> 0.32279415 | I21: Vieillesse | J21: =J3/$F$48 -> 0.14736873
A22: Taxes consommation d'énergie | B22: =B4/$F$48 -> 0.013334192 | I22: Santé, maladie, invalidité | J22: =J4/$F$48 -> 0.1152708
A23: Fiscalité nutritionnelle | B23: =B5/$F$48 -> 0.0062533302 | I23: Autre Protection sociale | J23: =J5/$F$48 -> 0.060154618
A24: Autre | B24: =B6/$F$48 -> 0.015146993 | G24: Enseignement | H24: =H6/$F$48 -> 0.050626253
A25: Cotisations sociales - salariés | B25: =B7/$F$48 -> 0.035355249 | C25: Prélèvements sur le revenu des ménages | D25: =D7/$F$48 -> 0.12035523 | G25: Soutien aux activités économiques | H25: =H7/$F$48 -> 0.049278491 | I25: Transports | J25: =J7/$F$48 -> 0.020676021
A26: CSG | B26: =B8/$F$48 -> 0.052169911 | I26: Energie | J26: =J8/$F$48 -> 0.0052673788
A27: IRPP | B27: =B9/$F$48 -> 0.032761591 | I27: Autres branches d'activité | J27: =J9/$F$48 -> 0.023335091
A28: Autre | B28: =B10/$F$48 -> 6.847831e-05 | G28: Sécurité | H28: =H10/$F$48 -> 0.036215146 | I28: Défense | J28: =J10/$F$48 -> 0.018465295
A29: Cotisations sociales - employeurs | B29: =B11/$F$48 -> 0.11195829 | C29: Prélèvements sur les sociétés | D29: =D11/$F$48 -> 0.17026467 | I29: Ordre et sécurité intérieurs | J29: =J11/$F$48 -> 0.01774985
A30: Impôt sur les sociétés (IS) | B30: =B12/$F$48 -> 0.02316611 | G30: Services publics généraux | H30: =H12/$F$48 -> 0.034869087
A31: Autres impôts sur la production | B31: =B13/$F$48 -> 0.035140275 | G31: Charge d'intérêts sur la dette publique | H31: =H13/$F$48 -> 0.020056309
C32: Prélèvements sur le capital | D32: =D14/$F$48 -> 0.031031917 | G32: Appuis à la recherche | H32: =H14/$F$48 -> 0.017533854 | I32: Recherche fondamentale | J32: =J14/$F$48 -> 0.0067732203
C33: Recettes non fiscales | E33: =E15/$F$48 -> 0.049986441 | I33: R & D | J33: =J15/$F$48 -> 0.010760634
C34: Autres recettes | E34: =E16/$F$48 -> 0.035056806 | G34: Autre | H34: =H16/$F$48 -> 0.038461643
C35: Besoins de financement | E35: =E17/$F$48 -> 0.057610359 | F35: Deficit
B40: Total recettes | F40: 1503.5 | G40: =H40-F40 -> 169.1 | H40: 1672.6
F42: 1400.6
B44: Source | C44: https://www.insee.fr/fr/outil-interactif/5367857/tableau/10_ECC/15_FIN
E48: PIB | F48: =2935236/1000 -> 2935.236

Sheet G2a
A1: Pays | B1: Unité | C1: Charge d'intérêts | D1: Solde primaire | E1: Solde total
A2: Norvège | B2: % PIB | C2: -4.0456997 | D2: 16.7457 | E2: 12.7
A3: Chypre | B3: % PIB | C3: -1.1 | D3: 4.5 | E3: 3.4
A4: Danemark | B4: % PIB | C4: -0.8 | D4: 3.7 | E4: 2.9
A5: Irlande | B5: % PIB | C5: -0.5 | D5: 2.2 | E5: 1.8
A6: Grèce | B6: % PIB | C6: -3.2 | D6: 4.9 | E6: 1.7
A7: Portugal | B7: % PIB | C7: -1.9 | D7: 2.6 | E7: 0.7
A8: Suisse | B8: % PIB | C8: -0.32273661 | D8: 0.92273661 | E8: 0.6
A9: Canada | B9: % PIB | C9: -3.4585614 | D9: 2.631096 | E9: -0.82746536
A10: Japon | B10: % PIB | C10: -1.5409462 | D10: 0.59799582 | E10: -0.94295042
A11: Suède | B11: % PIB | C11: -0.6 | D11: -0.7 | E11: -1.3
A12: Pays-Bas | B12: % PIB | C12: -0.7 | D12: -0.9 | E12: -1.6
A13: Lituanie | B13: % PIB | C13: -0.9 | D13: -0.9 | E13: -1.8
... A26: Bulgarie | B26: % PIB | C26: -0.8 | D26: -2.8 | E26: -3.5
A27: Pays G7 | C27: -2.7471317 | D27: -0.91321455 | E27: -3.674632
A28: Islande | B28: % PIB | C28: -4.7562294 | D28: 1.0562294 | E28: -3.7
A29: Autriche | B29: % PIB | C29: -1.6 | D29: -2.6 | E29: -4.2
A30: Slovaquie | B30: % PIB | C30: -1.5 | D30: -2.9 | E30: -4.5
A31: Hongrie | B31: % PIB | C31: -3.8 | D31: -0.9 | E31: -4.7
A32: France | B32: % PIB | C32: -2.2 | D32: -2.9 | E32: -5.1
A33: Belgique | B33: % PIB | C33: -2.2 | D33: -3 | E33: -5.2
A34: Royaume-Uni | B34: % PIB | C34: -2.9697063 | D34: -3.5361413 | E34: -6.5058476
A35: États-Unis | B35: % PIB | C35: -4.0607079 | D35: -2.4854523 | E35: -6.5461603
A36: Pologne | B36: % PIB | C36: -2.5 | D36: -4.8 | E36: -7.3
A37: Roumanie | B37: % PIB | C37: -2.8 | D37: -5.1 | E37: -7.9
A40: Note
B41: Données 2024

Sheet G2b
A1: Pays | B1: Année | C1: Unité | D1: Recettes totales | E1: Recettes fiscales | F1: Autres recettes
A2: Irlande | B2: 2024 | C2: % PIB | D2: 26.5 | E2: 21.6 | F2: 4.9
A3: États-Unis | B3: 2024 | C3: % PIB | D3: 29.783564 | E3: 25.618333 | F3: 4.1652313
A4: Malte | B4: 2024 | C4: % PIB | D4: 33.8 | E4: 28.8 | F4: 5
A5: Roumanie | B5: 2024 | C5: % PIB | D5: 34 | E5: 27.9 | F5: 6.1
A6: Suisse | B6: 2024 | C6: % PIB | D6: 34.2 | E6: 27.7 | F6: 6.5
A7: Bulgarie | B7: 2024 | C7: % PIB | D7: 36.1 | E7: 30.3 | F7: 5.8
A8: Lituanie | B8: 2024 | C8: % PIB | D8: 38.1 | E8: 32.8 | F8: 5.3
A9: Royaume-Uni | B9: 2024 | C9: % PIB | D9: 38.326244 | E9: 34.366806 | F9: 3.959438
A10: Japon | B10: 2023 | C10: % PIB | D10: 38.746224 | E10: 33.733304 | F10: 5.0129199
A11: Rep. tchèque | B11: 2024 | C11: % PIB | D11: 41.2 | E11: 34.8 | F11: 6.4
A12: Pays G7 | B12: 2024 | C12: % PIB | D12: 42.091755 | E12: 36.443633 | F12: 5.6481215
A13: Hongrie | B13: 2024 | C13: % PIB | D13: 42.2 | E13: 35.1 | F13: 7.1
... A19: Islande | B19: 2024 | C19: % PIB | D19: 43.4 | E19: 36.9 | F19: 6.5
A20: Portugal | D20: 43.4 | E20: 35.3 | F20: 8.1
A21: Lettonie | B21: 2024 | C21: % PIB | D21: 43.5 | E21: 34.7 | F21: 8.8
A22: Slovaquie | B22: 2025 | C22: % PIB | D22: 43.5 | E22: 36.3 | F22: 7.2
A23: Pays-Bas | B23: 2024 | C23: % PIB | D23: 43.6 | E23: 38.6 | F23: 5
A24: Slovénie | B24: 2024 | C24: % PIB | D24: 45.6 | E24: 38.3 | F24: 7.3
A25: UE27 | B25: 2024 | C25: % PIB | D25: 46 | E25: 39.2 | F25: 6.8
A26: Croatie | B26: 2024 | C26: % PIB | D26: 46.1 | E26: 38.3 | F26: 7.8
A27: Allemagne | B27: 2024 | C27: % PIB | D27: 46.8 | E27: 39.4 | F27: 7.4
A28: Luxembourg | B28: 2025 | C28: % PIB | D28: 47.1 | E28: 40.9 | F28: 6.2
A29: Italie | B29: 2025 | C29: % PIB | D29: 48.1 | E29: 42.8 | F29: 5.3
A30: Suède | B30: 2025 | C30: % PIB | D30: 48.6 | E30: 40.9 | F30: 7.7
A31: Belgique | B31: 2025 | C31: % PIB | D31: 49 | E31: 41.8 | F31: 7.2
A32: Grèce | B32: 2024 | C32: % PIB | D32: 49.4 | E32: 39.9 | F32: 9.5
... A37: Norvège | B37: 2025 | C37: % PIB | D37: 59.9 | E37: 38.7 | F37: 21.2
A39: Données 2024

Sheet G3a
A1: Pays | B1: Classification HCSP | C1: Année | D1: Unité | E1: Niveaux (axe de gauche)
A2: Irlande | B2: Dépenses primaires | C2: 2025 | D2: % PIB | E2: 20.5
A3: États-Unis | B3: Dépenses primaires | C3: 2025 | D3: % PIB | E3: 33.139398
A4: Suisse | B4: Dépenses primaires | C4: 2024 | D4: % PIB | E4: 33.277263
A5: Malte | B5: Dépenses primaires | C5: 2025 | D5: % PIB | E5: 35.8
A6: Japon | B6: Dépenses primaires | C6: 2024 | D6: % PIB | E6: 38.148228
A7: Chypre | B7: Dépenses primaires | C7: 2025 | D7: % PIB | E7: 39.1
A8: Lituanie | B8: Dépenses primaires | C8: 2025 | D8: % PIB | E8: 40.3
A9: Canada | B9: Dépenses primaires | C9: 2025 | D9: % PIB | E9: 40.411055
A10: Roumanie | B10: Dépenses primaires | C10: 2025 | D10: % PIB | E10: 40.5
A11: Portugal | B11: Dépenses primaires | C11: 2025 | D11: % PIB | E11: 40.8
A12: Bulgarie | B12: Dépenses primaires | C12: 2025 | D12: % PIB | E12: 40.9
A13: Royaume-Uni | B13: Dépenses primaires | C13: 2024 | D13: % PIB | E13: 41.862385
... A17: Hongrie | B17: Dépenses primaires | C17: 2025 | D17: % PIB | E17: 43.5
A18: Pays G7 | E18: 43.608724
A19: Norvège | B19: Dépenses primaires | C19: 2024 | D19: % PIB | E19: 43.7543
A20: Pays-Bas | B20: Dépenses primaires | C20: 2025 | D20: % PIB | E20: 44.2
A21: Estonie | B21: Dépenses primaires | C21: 2025 | D21: % PIB | E21: 44.9
A22: Lettonie | B22: Dépenses primaires | C22: 2025 | D22: % PIB | E22: 45
A23: Grèce | B23: Dépenses primaires | C23: 2025 | D23: % PIB | E23: 45.1
A24: Slovaquie | B24: Dépenses primaires | C24: 2025 | D24: % PIB | E24: 46.4
A25: Danemark | B25: Dépenses primaires | C25: 2025 | D25: % PIB | E25: 47.2
A26: Italie | B26: Dépenses primaires | C26: 2025 | D26: % PIB | E26: 47.3
A27: UE27 | B27: Dépenses primaires | C27: 2025 | D27: % PIB | E27: 47.6
A28: Slovénie | B28: Dépenses primaires | C28: 2025 | D28: % PIB | E28: 48.3
A29: Pologne | B29: Dépenses primaires | C29: 2025 | D29: % PIB | E29: 48.4
A30: Croatie | B30: Dépenses primaires | C30: 2025 | D30: % PIB | E30: 48.7
... A37: Finlande | B37: Dépenses primaires | C37: 2025 | D37: % PIB | E37: 55.9

Sheet G3b
A1: Pays | B1: Classification HCSP | C1: Année | D1: Unité | E1: Depenses primaires
A2: Bulgarie | B2: Dépenses primaires | C2: 2025 | D2: Pc PPP | E2: 17023.662
A3: Roumanie | B3: Dépenses primaires | C3: 2025 | D3: Pc PPP | E3: 19514.504
A4: Lettonie | B4: Dépenses primaires | C4: 2025 | D4: Pc PPP | E4: 19560.818
A5: Grèce | B5: Dépenses primaires | C5: 2025 | D5: Pc PPP | E5: 20298.294
A6: Portugal | B6: Dépenses primaires | C6: 2025 | D6: Pc PPP | E6: 20532.932
A7: Japon | B7: Dépenses primaires | C7: 2024 | D7: Pc PPP | E7: 20873.509
A8: Hongrie | B8: Dépenses primaires | C8: 2025 | D8: Pc PPP | E8: 21028.786
A9: Slovaquie | B9: Dépenses primaires | C9: 2025 | D9: Pc PPP | E9: 22133.345
A10: Estonie | B10: Dépenses primaires | C10: 2025 | D10: Pc PPP | E10: 22216.288
A11: Lituanie | B11: Dépenses primaires | C11: 2025 | D11: Pc PPP | E11: 23297.161
A12: Espagne | B12: Dépenses primaires | C12: 2025 | D12: Pc PPP | E12: 24782.254
A13: Croatie | B13: Dépenses primaires | C13: 2025 | D13: Pc PPP | E13: 25115.363
... A21: États-Unis | B21: Dépenses primaires | C21: 2025 | D21: Pc PPP | E21: 29360.017
A22: Pays G7 | D22: Pc PPP | E22: 29659.205
A23: Italie | B23: Dépenses primaires | C23: 2025 | D23: Pc PPP | E23: 30049.797
A24: UE27 | B24: Dépenses primaires | C24: 2025 | D24: Pc PPP | E24: 30623.496
A25: Irlande | B25: Dépenses primaires | C25: 2025 | D25: Pc PPP | E25: 31611.632
A26: Suisse | B26: Dépenses primaires | C26: 2024 | D26: Pc PPP | E26: 32544.632
A27: Islande | B27: Dépenses primaires | C27: 2024 | D27: Pc PPP | E27: 33295.804
A28: France | B28: Dépenses primaires | C28: 2025 | D28: Pc PPP | E28: 36420.092
A29: Allemagne | B29: Dépenses primaires | C29: 2025 | D29: Pc PPP | E29: 36542.64
A30: Suède | B30: Dépenses primaires | C30: 2025 | D30: Pc PPP | E30: 36827.193
A31: Finlande | B31: Dépenses primaires | C31: 2025 | D31: Pc PPP | E31: 36907.357
A32: Pays-Bas | B32: Dépenses primaires | C32: 2025 | D32: Pc PPP | E32: 37430.735
A33: Belgique | B33: Dépenses primaires | C33: 2025 | D33: Pc PPP | E33: 39616.45
A34: Autriche | B34: Dépenses primaires | C34: 2025 | D34: Pc PPP | E34: 40550.955
... A37: Luxembourg | B37: Dépenses primaires | C37: 2025 | D37: Pc PPP | E37: 74661.228

Sheet G4a
A1: Pays | B1: Année | C1: Pc PPP
A2: États-Unis | C2: 0
A3: Canada | B3: 2024 | C3: 6970.3242
A4: Islande | C4: 10191.33
A5: Lettonie | C5: 11852.198
A6: Hongrie | C6: 13158.748
A7: Bulgarie | C7: 13836.072
A8: Estonie | C8: 14236.13
A9: Lituanie | C9: 14523.329
A10: Croatie | C10: 15154.617
A11: Japon | C11: 17494.734
A12: Pays-Bas | C12: 18102.957
A13: Roumanie | C13: 18179.335
A14: Slovaquie | C14: 18328.281
A15: Rep. Tchèque | C15: 18569.877
... A37: Luxembourg | C37: 72441.328

Sheet G4b
A1: Pays | C1: PPP - Santé
A2: Bulgarie | B2: 2024 | C2: 2465.6829
A3: Hongrie | B3: 2024 | C3: 3008.83
A4: Grèce | B4: 2024 | C4: 3030.2251
A5: Roumanie | B5: 2024 | C5: 3039.9556
A6: Lettonie | B6: 2024 | C6: 3410.676
A7: Portugal | B7: 2024 | C7: 3739.9439
A8: Estonie | B8: 2024 | C8: 3837.955
A9: Chypre | B9: 2024 | C9: 4093.2511
A10: Pologne | B10: 2024 | C10: 4191.9076
A11: Malte | B11: 2024 | C11: 4241.7142
A12: Japon | B12: 2024 | C12: 4620.4005
A13: Slovaquie | B13: 2024 | C13: 4658.7782
... A36: Norvège | B36: 2024 | C36: 13840.31

Sheet G4c
A1: Pays | C1: PPP - autre
A2: Grèce | B2: 2024 | C2: 993.62018
A3: Roumanie | B3: 2024 | C3: 1093.227
A4: Bulgarie | B4: 2024 | C4: 1143.032
A5: Lettonie | B5: 2024 | C5: 1147.7673
A6: Croatie | B6: 2024 | C6: 1181.2224
A7: Hongrie | B7: 2024 | C7: 1355.5577
A8: Rep. Tchèque | B8: 2024 | C8: 1456.2982
A9: Malte | B9: 2024 | C9: 1529.8924
A10: Portugal | B10: 2024 | C10: 1674.4665
A11: Chypre | B11: 2024 | C11: 1713.7305
A12: Slovénie | B12: 2024 | C12: 1759.1136
A13: Japon | B13: 2024 | C13: 1762.2744
... A36: Luxembourg | B36: 2024 | C36: 9239.4267

Sheet G5a
A1: Source | B1: Pays | C1: Classification HCSP | D1: Code | E1: Unité | F1: 2000 | G1: 2001 | H1: 2002 | I1: 2003 | J1: 2004 | K1: 2005 | L1: 2006 | M1: 2007 | N1: 2008 | O1: 2009 | P1: 2010 | Q1: 2011 | R1: 2012 | S1: 2013 | T1: 2014 | U1: 2015 | V1: 2016 | W1: 2017 | X1: 2018 | Y1: 2019 | Z1: 2020 | AA1: 2021 | AB1: 2022 | AC1: 2023 | AD1: 2024 | AE1: 2025 | AG1: 2025
A2: Eurostat 2026 | B2: Estonie | C2: Total | D2: Gross Public debt - General government | E2: % PIB | F2: 5.1 | G2: 4.9 | H2: 5.7 | I2: 5.6 | J2: 5.2 | K2: 4.7 | L2: 4.7 | M2: 3.9 | N2: 4.7 | O2: 8 | P2: 8 | Q2: 7.6 | R2: 11.1 | S2: 11.4 | T2: 11.6 | U2: 10.8 | V2: 10.2 | W2: 9.4 | X2: 8.5 | Y2: 9 | Z2: 19.1 | AA2: 18.4 | AB2: 19.2 | AC2: 20.2 | AD2: 23.5 | AE2: 24.1 | AG2: 24.1
A3: Eurostat 2026 | B3: Luxembourg | C3: Total | D3: Gross Public debt - General government | E3: % PIB | F3: 7.5 | G3: 7.6 | H3: 7.4 | I3: 7.4 | J3: 7.8 | K3: 8 | L3: 8.2 | M3: 8.1 | N3: 14.6 | O3: 15.3 | P3: 19.1 | Q3: 18.5 | R3: 20.8 | S3: 22.4 | T3: 21.9 | U3: 21.1 | V3: 19.6 | W3: 21.8 | X3: 20.9 | Y3: 22.3 | Z3: 24.5 | AA3: 24.2 | AB3: 24.9 | AC3: 24.7 | AD3: 26.3 | AE3: 26.5 | AG3: 26.5
A4: Eurostat 2026 | B4: Danemark | C4: Total | D4: Gross Public debt - General government | E4: % PIB | F4: 53.6 | G4: 50.1 | H4: 50.3 | I4: 48.2 | J4: 46.2 | K4: 39.4 | L4: 33.2 | M4: 29.5 | N4: 35.5 | O4: 43 | P4: 46.1 | Q4: 50 | R4: 48.7 | S4: 47.8 | T4: 48.7 | U4: 44.6 | V4: 41.7 | W4: 40.2 | X4: 38.5 | Y4: 38.3 | Z4: 45.2 | AA4: 39.6 | AB4: 33.3 | AC4: 33 | AD4: 30.5 | AE4: 27.9 | AG4: 27.9
A5: Eurostat 2026 | B5: Bulgarie | C5: Total | D5: Gross Public debt - General government | E5: % PIB | F5: 70.7 | G5: 64.5 | H5: 51 | I5: 43.4 | J5: 35.7 | K5: 26.6 | L5: 20.9 | M5: 16.3 | N5: 13 | O5: 13.7 | P5: 15.3 | Q5: 15.2 | R5: 16.6 | S5: 17 | T5: 27 | U5: 25.9 | V5: 29.1 | W5: 25.1 | X5: 22.2 | Y5: 20.1 | Z5: 24.5 | AA5: 23.8 | AB5: 22.5 | AC5: 22.9 | AD5: 23.8 | AE5: 29.9 | AG5: 29.9
A6: Eurostat 2026 | B6: Irlande | C6: Total | D6: Gross Public debt - General government | E6: % PIB | F6: 36.4 | G6: 33.6 | H6: 30.9 | I6: 29.8 | J6: 28 | K6: 26.1 | L6: 23.7 | M6: 23.9 | N6: 42.5 | O6: 61.8 | P6: 86.2 | Q6: 109.6 | R6: 118.9 | S6: 117.7 | T6: 101.4 | U6: 74 | V6: 72.7 | W6: 65.2 | X6: 61.3 | Y6: 55.8 | Z6: 56.9 | AA6: 52.4 | AB6: 43 | AC6: 41.8 | AD6: 38.3 | AE6: 32.9 | AG6: 32.9
A7: Eurostat 2026 | B7: Suède | C7: Total | D7: Gross Public debt - General government | E7: % PIB | F7: 50.4 | G7: 52 | H7: 49.8 | I7: 49.5 | J7: 48.7 | K7: 49 | L7: 43.9 | M7: 39.3 | N7: 38 | O7: 41.3 | P7: 38.7 | Q7: 37.8 | R7: 38.1 | S7: 41.2 | T7: 46.1 | U7: 44.8 | V7: 43.2 | W7: 41.9 | X7: 40.2 | Y7: 36 | Z7: 40.5 | AA7: 37.2 | AB7: 34.4 | AC7: 32.2 | AD7: 34.2 | AE7: 35.1 | AG7: 35.1
A8: IMF - WEO April 2026 | B8: Suisse | C8: Total | D8: Gross Public debt - General government | E8: % PIB | F8: 51.656 | G8: 50.453 | H8: 56.867 | I8: 56.185 | J8: 57.06 | K8: 54.088 | L8: 47.75 | M8: 44.01 | N8: 44.226 | O8: 42.366 | P8: 40.699 | Q8: 41.237 | R8: 41.857 | S8: 41.222 | T8: 41.244 | U8: 41.44 | V8: 40.302 | W8: 41.081 | X8: 38.962 | Y8: 38.831 | Z8: 42.383 | AA8: 39.742 | AB8: 35.899 | AC8: 37.271 | AD8: 40.493 | AE8: 39.418 | AG8: 39.418
A9: Eurostat 2026 | B9: Lituanie | C9: Total | D9: Gross Public debt - General government | E9: % PIB | F9: 23.5 | G9: 22.9 | H9: 22.1 | I9: 20.4 | J9: 18.6 | K9: 17.6 | L9: 17.3 | M9: 15.9 | N9: 14.6 | O9: 27.9 | P9: 36.7 | Q9: 37.4 | R9: 39.9 | S9: 38.9 | T9: 40.7 | U9: 42.4 | V9: 39.8 | W9: 39.1 | X9: 33.3 | Y9: 35.6 | Z9: 45.9 | AA9: 43.3 | AB9: 38.3 | AC9: 37.1 | AD9: 38 | AE9: 39.5 | AG9: 39.5
A10: Eurostat 2026 | B10: Rep. Tchèque | C10: Total | D10: Gross Public debt - General government | E10: % PIB | F10: 16.9 | G10: 22.6 | H10: 25.7 | I10: 28.1 | J10: 28.3 | K10: 27.7 | L10: 27.6 | M10: 27.3 | N10: 28.2 | O10: 33.4 | P10: 36.7 | Q10: 39.4 | R10: 43.8 | S10: 44.1 | T10: 41.5 | U10: 39.5 | V10: 36.2 | W10: 33.8 | X10: 31.7 | Y10: 29.6 | Z10: 36.9 | AA10: 40.7 | AB10: 42.5 | AC10: 42.2 | AD10: 43.3 | AE10: 44.3 | AG10: 44.3
A11: Eurostat 2026 | B11: Pays-Bas | C11: Total | D11: Gross Public debt - General government | E11: % PIB | F11: 52.2 | G11: 49.5 | H11: 48.8 | I11: 49.9 | J11: 50.2 | K11: 49.6 | L11: 45 | M11: 42.8 | N11: 54.3 | O11: 56.3 | P11: 58.9 | Q11: 61.2 | R11: 65.7 | S11: 67.2 | T11: 67.2 | U11: 63.8 | V11: 60.9 | W11: 56 | X11: 51.6 | Y11: 47.7 | Z11: 53.4 | AA11: 50.5 | AB11: 48.4 | AC11: 45.8 | AD11: 43.8 | AE11: 44.4 | AG11: 44.4
A12: IMF - WEO April 2026 | B12: Norvège | C12: Total | D12: Gross Public debt - General government | E12: % PIB | F12: 28.809 | G12: 27.335 | H12: 34.041 | I12: 43.114 | J12: 43.764 | K12: 42.131 | L12: 52.157 | M12: 48.887 | N12: 46.825 | O12: 41.717 | P12: 42.065 | Q12: 28.946 | R12: 30.166 | S12: 30.574 | T12: 28.8 | U12: 33.2 | V12: 36.656 | W12: 36.912 | X12: 38.068 | Y12: 39.006 | Z12: 44.266 | AA12: 40.121 | AB12: 34.829 | AC12: 42.438 | AD12: 52.818 | AE12: 45 | AG12: 45
... A32: Eurostat 2026 | B32: France | C32: Total | D32: Gross Public debt - General government | E32: % PIB | F32: 59.7 | G32: 59.3 | H32: 61.3 | I32: 65.4 | J32: 66.9 | K32: 68.2 | L32: 65.4 | M32: 65.5 | N32: 69.8 | O32: 84.1 | P32: 86.3 | Q32: 88.7 | R32: 91.7 | S32: 94.6 | T32: 96.2 | U32: 97 | V32: 98.1 | W32: 98.8 | X32: 98.5 | Y32: 98.2 | Z32: 114.9 | AA32: 112.8 | AB32: 111.4 | AC32: 109.5 | AD32: 112.6 | AE32: 115.6 | AG32: 115.7
B33: Pays G7 | F33: 77.347333 | G33: 74.644857 | H33: 76.061286 | I33: 77.936 | J33: 80.490286 | K33: 81.745857 | L33: 80.934143 | M33: 79.750571 | N33: 84.167429 | O33: 96.972286 | P33: 102.83186 | Q33: 106.03443 | R33: 109.90229 | S33: 111.83314 | T33: 112.33614 | U33: 112.60143 | V33: 112.83986 | W33: 111.87429 | X33: 111.602 | Y33: 111.56543 | Z33: 131.63914 | AA33: 127.18357 | AB33: 123.17543 | AC33: 121.415 | AD33: 122.311 | AE33: 123.20471 | AG33: 123.20471
A34: IMF - WEO April 2026 | B34: États-Unis | C34: Total | D34: Gross Public debt - General government | E34: % PIB | G34: 53.485 | H34: 55.859 | I34: 58.956 | J34: 66.438 | K34: 65.777 | L34: 64.531 | M34: 64.948 | N34: 73.844 | O34: 87.071 | P34: 95.651 | Q34: 100.027 | R34: 103.667 | S34: 105.015 | T34: 104.942 | U34: 105.442 | V34: 107.405 | W34: 106.403 | X34: 107.653 | Y34: 108.785 | Z34: 132.552 | AA34: 125.048 | AB34: 119.145 | AC34: 119.963 | AD34: 122.27 | AE34: 123.886 | AG34: 123.886
A35: Eurostat 2026 | B35: Italie | C35: Total | D35: Gross Public debt - General government | E35: % PIB | F35: 108.7 | G35: 108.5 | H35: 105.9 | I35: 105.1 | J35: 104.7 | K35: 106.2 | L35: 106.3 | M35: 103.5 | N35: 105.8 | O35: 116.1 | P35: 118.8 | Q35: 119.1 | R35: 125.9 | S35: 131.9 | T35: 134.8 | U35: 134.8 | V35: 134.2 | W35: 133.7 | X35: 134.2 | Y35: 133.9 | Z35: 154.4 | AA35: 145.8 | AB35: 138.4 | AC35: 133.9 | AD35: 134.7 | AE35: 137.1 | AG35: 137.1
A36: Eurostat 2026 | B36: Grèce | C36: Total | D36: Gross Public debt - General government | E36: % PIB | F36: 108.9 | G36: 110.5 | H36: 107.9 | I36: 104.3 | J36: 105.5 | K36: 109.9 | L36: 105.3 | M36: 104.6 | N36: 110.9 | O36: 128.5 | P36: 147.8 | Q36: 175.1 | R36: 164.1 | S36: 180.4 | T36: 182.7 | U36: 179.6 | V36: 183.1 | W36: 182.1 | X36: 189 | Y36: 183.2 | Z36: 209.4 | AA36: 197.3 | AB36: 177.8 | AC36: 164.3 | AD36: 154.2 | AE36: 146.1 | AG36: 146.1
A37: IMF - WEO April 2026 | B37: Japon | C37: Total | D37: Gross Public debt - General government | E37: % PIB | F37: 118.498 | G37: 126.843 | H37: 134.627 | I37: 140.242 | J37: 148.839 | K37: 153.435 | L37: 152.102 | M37: 150.448 | N37: 153.618 | O37: 172.858 | P37: 178.579 | Q37: 190.564 | R37: 197.144 | S37: 201.166 | T37: 203.645 | U37: 200.145 | V37: 202.145 | W37: 203.111 | X37: 203.721 | Y37: 206.326 | Z37: 228.771 | AA37: 222.684 | AB37: 227.831 | AC37: 220.302 | AD37: 214.487 | AE37: 206.525 | AG37: 206.525

Sheet G5c
A1: Source | B1: Pays | C1: Code | D1: Unité | E1: 2000 | F1: 2001 | G1: 2002 | H1: 2003 | I1: 2004 | J1: 2005 | K1: 2006 | L1: 2007 | M1: 2008 | N1: 2009 | O1: 2010 | P1: 2011 | Q1: 2012 | R1: 2013 | S1: 2014 | T1: 2015 | U1: 2016 | V1: 2017 | W1: 2018 | X1: 2019 | Y1: 2020 | Z1: 2021 | AA1: 2022 | AB1: 2023 | AC1: 2024 | AD1: 2025
B3: Pays G7 | F3: 5.3393493 | G3: 5.0430161 | H3: 4.6896337 | I3: 4.4002236 | J3: 4.2140816 | K3: 4.1117176 | L3: 4.2558808 | M3: 4.2967403 | N3: 3.7342499 | O3: 3.3735369 | P3: 3.3073101 | Q3: 3.1359668 | R3: 2.7909763 | S3: 2.5993753 | T3: 2.3916474 | U3: 2.2983469 | V3: 2.2346291 | W3: 2.2349943 | X3: 2.1062522 | Y3: 1.9671535 | Z3: 1.7037831 | AA3: 2.1935534 | AB3: 2.2587845 | AC3: 2.4206272 | AD3: 2.5095457
B4: UE-27 | C4: Taux apparent dette | D4: % | F4: 5.4054054 | G4: 5.1671733 | H4: 4.7256098 | I4: 4.491018 | J4: 4.1728763 | K4: 4.0178571 | L4: 4.1538462 | M4: 4.4871795 | N4: 4.1474654 | O4: 3.5667107 | P4: 3.6069652 | Q4: 3.5495716 | R4: 3.1764706 | S4: 2.8801843 | T4: 2.5316456 | U4: 2.3501763 | V4: 2.1403092 | W4: 2.0858896 | X4: 1.8867925 | Y4: 1.8064516 | Z4: 1.5642458 | AA4: 1.8454441 | AB4: 2.0631068 | AC4: 2.3602484 | AD4: 2.354399
B5: France | C5: Taux apparent dette | D5: % | F5: 5.1131729 | G5: 5.1064176 | H5: 4.6917183 | I5: 4.2831104 | J5: 4.0587623 | K5: 3.8173647 | L5: 4.1104936 | M5: 4.3859987 | N5: 3.6471954 | O5: 3.0206665 | P5: 3.146484 | Q5: 2.9660685 | R5: 2.5420153 | S5: 2.322326 | T5: 2.1110814 | U5: 1.9599703 | V5: 1.8227666 | W5: 1.7902378 | X5: 1.5389169 | Y5: 1.305666 | Z5: 1.2075713 | AA5: 1.701368 | AB5: 1.691856 | AC5: 1.8708569 | AD5: 1.9513742

Sheet G5d
A1: Ajustement à partir du PIB potentiel (AMECO)
D2: 2000 | E2: 2001 | F2: 2002 | G2: 2003 | H2: 2004 | I2: 2005 | J2: 2006 | K2: 2007 | L2: 2008 | M2: 2009 | N2: 2010 | O2: 2011 | P2: 2012 | Q2: 2013 | R2: 2014 | S2: 2015 | T2: 2016 | U2: 2017 | V2: 2018 | W2: 2019 | X2: 2020 | Y2: 2021 | Z2: 2022 | AA2: 2023 | AB2: 2024 | AC2: 2025 | AD2: 2026 | AE2: 2027
A3: solde primaire structurel | D3: 0.51087 | E3: 0.55274 | F3: -0.75148 | G3: -1.26839 | H3: -1.38804 | I3: -1.4031 | J3: -1.18972 | K3: -1.88928 | L3: -1.42245 | M3: -3.08613 | N3: -3.35943 | O3: -2.11727 | P3: -1.54165 | Q3: -1.46105 | R3: -1.29239 | S3: -0.98228 | T3: -1.0642 | U3: -1.56924 | V3: -1.01447 | W3: -2.00172 | X3: -3.46862 | Y3: -4.22408 | Z3: -2.69979 | AA3: -3.38379 | AB3: -3.53911 | AC3: -2.49595 | AD3: -1.96907 | AE3: -2.40801
A4: solde primaire conjoncturel | D4: 1.13578 | E4: 1.08246 | F4: 0.60402 | G4: 0.05661 | H4: 0.63401 | I4: 0.61105 | J4: 1.13541 | K4: 1.58789 | L4: 0.79327 | M4: -1.74653 | N4: -1.25225 | O4: -0.47178 | P4: -0.99854 | Q4: -1.14633 | R4: -1.08433 | S4: -0.87897 | T4: -0.79951 | U4: -0.0033 | V4: 0.46442 | W4: 1.12362 | X4: -4.1819 | Y4: -0.97305 | Z4: -0.12469 | AA4: -0.09245 | AB4: -0.17395 | AC4: -0.37159 | AD4: -0.55446 | AE4: -0.50165
A5: solde primaire | D5: =SUM(D3:D4) -> 1.64665 | E5: =SUM(E3:E4) -> 1.6352 | F5: =SUM(F3:F4) -> -0.14746 | G5: =SUM(G3:G4) -> -1.21178 | H5: =SUM(H3:H4) -> -0.75403 | I5: =SUM(I3:I4) -> -0.79205 | J5: =SUM(J3:J4) -> -0.05431 | K5: =SUM(K3:K4) -> -0.30139 | ... AE5: =SUM(AE3:AE4) -> -2.90966

Sheet G5e
A1: Source | B1: Pays | C1: Classification HCSP | D1: Unité | E1: 1999 | F1: 2000 | G1: 2001 | H1: 2002 | I1: 2003 | J1: 2004 | K1: 2005 | L1: 2006 | M1: 2007 | N1: 2008 | O1: 2009 | P1: 2010 | Q1: 2011 | R1: 2012 | S1: 2013 | T1: 2014 | U1: 2015 | V1: 2016 | W1: 2017 | X1: 2018 | Y1: 2019 | Z1: 2020 | AA1: 2021 | AB1: 2022 | AC1: 2023 | AD1: 2024 | AE1: 2025
A2: Insee 2026 | B2: France | C2: Solde primaire | D2: 3 | E2: % PIB | F2: 1.6466522 | G2: 1.6352052 | H2: -0.14745966 | I2: -1.2117822 | J2: -0.75403217 | K2: -0.79204993 | L2: -0.054305991 | M2: -0.30138667 | N2: -0.62918593 | O2: -4.8326515 | P2: -4.6116804 | Q2: -2.589047 | R2: -2.5401872 | S2: -2.6073878 | T2: -2.3767199 | U2: -1.8612502 | V2: -1.863704 | W2: -1.57254 | X2: -0.55004685 | Y2: -0.87810371 | Z2: -7.6505256 | AA2: -5.1971331 | AB2: -2.824487 | AC2: -3.4762332 | AD2: -3.7130643 | AE2: -2.9023562
A3: Insee 2026 | B3: France | C3: Solde total | D3: 6 | E3: % PIB | F3: -1.3126554 | G3: -1.4173591 | H3: -3.1755653 | I3: -4.0878055 | J3: -3.5551863 | K3: -3.5073619 | L3: -2.6577487 | M3: -2.9896495 | N3: -3.5020151 | O3: -7.3783939 | P3: -7.1520609 | Q3: -5.3044627 | R3: -5.17109 | S3: -4.9384159 | T3: -4.5736403 | U3: -3.8921106 | V3: -3.7648752 | W3: -3.3624968 | X3: -2.3188018 | Y3: -2.3939369 | Z3: -8.9326896 | AA3: -6.5846325 | AB3: -4.7436301 | AC3: -5.3609608 | AD3: -5.7616526 | AE3: -5.0996036

Sheet G5f
C2: Contributions au solde primaire | J2: 2000-2004 | P2: 2005-2009 | V2: 2010-2014 | AA2: 2015-2019 | AE2: 2020-2021 | AJ2: 2022-2025
C3: Contribution des recettes publiques | F3: -0.55048854 | G3: -0.55048854 | H3: -0.55048854 | I3: -0.55048854 | J3: -0.55048854 | L3: -0.19648636 | M3: -0.19648636 | N3: -0.19648636 | O3: -0.19648636 | P3: -0.19648636 | R3: 3.1486131 | S3: 3.1486131 | T3: 3.1486131 | U3: 3.1486131 | V3: 3.1486131 | X3: -0.75479267 | Y3: -0.75479267 | Z3: -0.75479267 | AA3: -0.75479267 | AC3: -0.073488292 | AD3: -0.073488292 | AF3: -0.66763506 | AG3: -0.66763506 | AH3: -0.66763506 | AI3: -0.66763506 | AJ3: -0.66763506
C4: Contributions des dépenses primaires | F4: -1.8882136 | G4: -1.8882136 | H4: -1.8882136 | I4: -1.8882136 | J4: -1.8882136 | L4: -3.6231441 | M4: -3.6231441 | N4: -3.6231441 | O4: -3.6231441 | P4: -3.6231441 | R4: -0.39818291 | S4: -0.39818291 | T4: -0.39818291 | U4: -0.39818291 | V4: -0.39818291 | X4: 1.7379392 | Y4: 1.7379392 | Z4: 1.7379392 | AA4: 1.7379392 | AC4: -4.2455411 | AD4: -4.2455411 | AF4: 2.962412 | AG4: 2.962412 | AH4: 2.962412 | AI4: 2.962412 | AJ4: 2.962412
C5: Solde primaire | F5: -2.4387021 | G5: -2.4387021 | H5: -2.4387021 | I5: -2.4387021 | J5: -2.4387021 | L5: -3.8196305 | M5: -3.8196305 | N5: -3.8196305 | O5: -3.8196305 | P5: -3.8196305 | R5: 2.7504302 | S5: 2.7504302 | T5: 2.7504302 | U5: 2.7504302 | V5: 2.7504302 | X5: 0.98314653 | Y5: 0.98314653 | Z5: 0.98314653 | AA5: 0.98314653 | AC5: -4.3190294 | AD5: -4.3190294 | AF5: 2.2947769 | AG5: 2.2947769 | AH5: 2.2947769 | AI5: 2.2947769 | AJ5: 2.2947769
C6: Contribution charge des intérêts | F6: 0.24399561 | G6: 0.24399561 | H6: 0.24399561 | I6: 0.24399561 | J6: 0.24399561 | L6: 0.17493146 | M6: 0.17493146 | N6: 0.17493146 | O6: 0.17493146 | P6: 0.17493146 | R6: 0.50952016 | S6: 0.50952016 | T6: 0.50952016 | U6: 0.50952016 | V6: 0.50952016 | X6: 0.51502718 | Y6: 0.51502718 | Z6: 0.51502718 | AA6: 0.51502718 | AC6: 0.12833376 | AD6: 0.12833376 | AF6: -0.809748 | AG6: -0.809748 | AH6: -0.809748 | AI6: -0.809748 | AJ6: -0.809748
C7: Dépenses totales | F7: 1.644218 | G7: 1.644218 | H7: 1.644218 | I7: 1.644218 | J7: 1.644218 | L7: 3.4482127 | M7: 3.4482127 | N7: 3.4482127 | O7: 3.4482127 | P7: 3.4482127 | R7: -0.11133726 | S7: -0.11133726 | T7: -0.11133726 | U7: -0.11133726 | V7: -0.11133726 | X7: -2.2529664 | Y7: -2.2529664 | Z7: -2.2529664 | AA7: -2.2529664 | AC7: 4.1172074 | AD7: 4.1172074 | AF7: -2.152664 | AG7: -2.152664 | AH7: -2.152664 | AI7: -2.152664 | AJ7: -2.152664
C8: Solde public total | F8: -2.1947065 | G8: -2.1947065 | H8: -2.1947065 | I8: -2.1947065 | J8: -2.1947065 | L8: -3.644699 | M8: -3.644699 | N8: -3.644699 | O8: -3.644699 | P8: -3.644699 | R8: 3.2599503 | S8: 3.2599503 | T8: 3.2599503 | U8: 3.2599503 | V8: 3.2599503 | X8: 1.4981737 | Y8: 1.4981737 | Z8: 1.4981737 | AA8: 1.4981737 | AC8: -4.1906957 | AD8: -4.1906957 | AF8: 1.4850289 | AG8: 1.4850289 | AH8: 1.4850289 | AI8: 1.4850289 | AJ8: 1.4850289

Sheet G6 dat
A1: G6a | B1: ='[4]scénarios COR'!M$2 -> 2025 | C1: ='[4]scénarios COR'!N$2 -> 2026 | D1: ='[4]scénarios COR'!O$2 -> 2027 | E1: ='[4]scénarios COR'!P$2 -> 2028 | F1: ='[4]scénarios COR'!Q$2 -> 2029 | G1: ='[4]scénarios COR'!R$2 -> 2030 | H1: ='[4]scénarios COR'!S$2 -> 2031 | I1: ='[4]scénarios COR'!T$2 -> 2032 | ... AA1: ='[4]scénarios COR'!AL$2 -> 2050
A2: productivité 0,7% | B2: ='[4]scénarios COR'!M10 -> 0.72 | C2: ='[4]scénarios COR'!N10 -> 0.86 | D2: ='[4]scénarios COR'!O10 -> 0.85 | E2: ='[4]scénarios COR'!P10 -> 0.83 | F2: ='[4]scénarios COR'!Q10 -> 0.78 | G2: ='[4]scénarios COR'!R10 -> 0.79 | H2: ='[4]scénarios COR'!S10 -> 0.79 | I2: ='[4]scénarios COR'!T10 -> 0.78 | ... AA2: ='[4]scénarios COR'!AL10 -> 0.7
A3: productivité 0,4% | F3: ='[4]scénarios COR'!Q56 -> 0.78 | G3: ='[4]scénarios COR'!R56 -> 0.77 | H3: ='[4]scénarios COR'!S56 -> 0.73 | I3: ='[4]scénarios COR'!T56 -> 0.69 | J3: ='[4]scénarios COR'!U56 -> 0.66 | K3: ='[4]scénarios COR'!V56 -> 0.62 | L3: ='[4]scénarios COR'!W56 -> 0.58 | M3: ='[4]scénarios COR'!X56 -> 0.55 | ... AA3: ='[4]scénarios COR'!AL56 -> 0.4
A4: productivité 1% | F4: ='[4]scénarios COR'!Q34 -> 0.78 | G4: ='[4]scénarios COR'!R34 -> 0.82 | H4: ='[4]scénarios COR'!S34 -> 0.84 | I4: ='[4]scénarios COR'!T34 -> 0.86 | J4: ='[4]scénarios COR'!U34 -> 0.88 | K4: ='[4]scénarios COR'!V34 -> 0.89 | L4: ='[4]scénarios COR'!W34 -> 0.91 | M4: ='[4]scénarios COR'!X34 -> 0.93 | ... AA4: ='[4]scénarios COR'!AL34 -> 1
A6: G6b | B6: ='[4]scénarios COR'!M$2 -> 2025 | C6: ='[4]scénarios COR'!N$2 -> 2026 | D6: ='[4]scénarios COR'!O$2 -> 2027 | E6: ='[4]scénarios COR'!P$2 -> 2028 | F6: ='[4]scénarios COR'!Q$2 -> 2029 | G6: ='[4]scénarios COR'!R$2 -> 2030 | H6: ='[4]scénarios COR'!S$2 -> 2031 | I6: ='[4]scénarios COR'!T$2 -> 2032 | ... AA6: ='[4]scénarios COR'!AL$2 -> 2050
A7: chômage struct 7% | B7: ='[4]scénarios COR'!M9 -> 7.75 | C7: ='[4]scénarios COR'!N9 -> 7.64 | D7: ='[4]scénarios COR'!O9 -> 7.55 | E7: ='[4]scénarios COR'!P9 -> 7.5 | F7: ='[4]scénarios COR'!Q9 -> 7.5 | G7: ='[4]scénarios COR'!R9 -> 7.45 | H7: ='[4]scénarios COR'!S9 -> 7.41 | I7: ='[4]scénarios COR'!T9 -> 7.36 | ... AA7: ='[4]scénarios COR'!AL9 -> 7
A8: chômage struct 5% | F8: ='[4]scénarios COR'!Q77 -> 7.5 | G8: ='[4]scénarios COR'!R77 -> 7.27 | H8: ='[4]scénarios COR'!S77 -> 7.05 | I8: ='[4]scénarios COR'!T77 -> 6.82 | J8: ='[4]scénarios COR'!U77 -> 6.59 | K8: ='[4]scénarios COR'!V77 -> 6.36 | L8: ='[4]scénarios COR'!W77 -> 6.14 | M8: ='[4]scénarios COR'!X77 -> 5.91 | ... AA8: ='[4]scénarios COR'!AL77 -> 5
A9: chômage struct 10% | F9: ='[4]scénarios COR'!Q99 -> 7.5 | G9: ='[4]scénarios COR'!R99 -> 7.73 | H9: ='[4]scénarios COR'!S99 -> 7.95 | I9: ='[4]scénarios COR'!T99 -> 8.18 | J9: ='[4]scénarios COR'!U99 -> 8.41 | K9: ='[4]scénarios COR'!V99 -> 8.64 | L9: ='[4]scénarios COR'!W99 -> 8.86 | M9: ='[4]scénarios COR'!X99 -> 9.09 | ... AA9: ='[4]scénarios COR'!AL99 -> 10
A11: G6c | B11: ='[4]scénarios COR'!M$2 -> 2025 | C11: ='[4]scénarios COR'!N$2 -> 2026 | D11: ='[4]scénarios COR'!O$2 -> 2027 | E11: ='[4]scénarios COR'!P$2 -> 2028 | F11: ='[4]scénarios COR'!Q$2 -> 2029 | G11: ='[4]scénarios COR'!R$2 -> 2030 | H11: ='[4]scénarios COR'!S$2 -> 2031 | I11: ='[4]scénarios COR'!T$2 -> 2032 | ... AA11: ='[4]scénarios COR'!AL$2 -> 2050
A12: r - g = 0.5 | C12: 2.52924 | D12: 2.964356 | E12: 3.380008 | F12: 3.380008 | G12: 3.623625 | H12: 3.6338 | I12: 3.582925 | J12: 3.5524 | K12: 3.298025 | L12: 3.298025 | M12: 3.216625 | N12: 3.1454 | O12: 3.155575 | P12: 3.16575 | Q12: 3.08435 | R12: 2.992775 | S12: 2.96225 | T12: 2.870675 | U12: 2.829975 | V12: 2.7791 | W12: 2.687525 | X12: 2.67735 | Y12: 2.63665 | Z12: 2.63665 | AA12: 2.5756
A13: r - g = 1 | C13: 3.02924 | D13: 3.464356 | E13: 3.880008 | F13: 3.880008 | G13: 4.123625 | H13: 4.1338 | I13: 4.082925 | J13: 4.0524 | K13: 3.798025 | L13: 3.798025 | M13: 3.716625 | N13: 3.6454 | O13: 3.655575 | P13: 3.66575 | Q13: 3.58435 | R13: 3.492775 | S13: 3.46225 | T13: 3.370675 | U13: 3.329975 | V13: 3.2791 | W13: 3.187525 | X13: 3.17735 | Y13: 3.13665 | Z13: 3.13665 | AA13: 3.0756
A14: r = g | C14: 2.02924 | D14: 2.464356 | E14: 2.880008 | F14: 2.880008 | G14: 3.123625 | H14: 3.1338 | I14: 3.082925 | J14: 3.0524 | K14: 2.798025 | L14: 2.798025 | M14: 2.716625 | N14: 2.6454 | O14: 2.655575 | P14: 2.66575 | Q14: 2.58435 | R14: 2.492775 | S14: 2.46225 | T14: 2.370675 | U14: 2.329975 | V14: 2.2791 | W14: 2.187525 | X14: 2.17735 | Y14: 2.13665 | Z14: 2.13665 | AA14: 2.0756
A16: G6d | B16: ='[4]scénarios COR'!M$2 -> 2025 | C16: ='[4]scénarios COR'!N$2 -> 2026 | D16: ='[4]scénarios COR'!O$2 -> 2027 | E16: ='[4]scénarios COR'!P$2 -> 2028 | F16: ='[4]scénarios COR'!Q$2 -> 2029 | G16: ='[4]scénarios COR'!R$2 -> 2030 | H16: ='[4]scénarios COR'!S$2 -> 2031 | I16: ='[4]scénarios COR'!T$2 -> 2032 | ... AA16: ='[4]scénarios COR'!AL$2 -> 2050
A17: taux apparent, r - g = 0.5 | B17: 1.8990902 | C17: 2.2366936 | D17: 2.317545 | E17: 2.4355964 | F17: 2.5405311 | G17: 2.6608748 | H17: 2.7689776 | I17: 2.8594162 | J17: 2.9364144 | K17: 2.9765934 | L17: 3.012308 | M17: 3.0350099 | N17: 3.0472755 | O17: 3.0593087 | P17: 3.0711355 | Q17: 3.0726038 | R17: 3.063734 | S17: 3.052458 | T17: 3.0322598 | U17: 3.0097838 | V17: 2.9841522 | W17: 2.9511936 | X17: 2.9207666 | Y17: 2.8891981 | Z17: 2.8611372 | AA17: 2.8294108
A18: taux apparent, r - g = 1 | C18: 2.2366936 | D18: 2.3731006 | E18: 2.5405347 | F18: 2.6893651 | G18: 2.8487273 | H18: 2.9915131 | I18: 3.1127811 | J18: 3.2171832 | K18: 3.2817212 | L18: 3.3390883 | M18: 3.3810368 | N18: 3.4104105 | O18: 3.437651 | P18: 3.4629953 | Q18: 3.4764792 | R18: 3.4782898 | S18: 3.4765076 | T18: 3.4647484 | U18: 3.4497736 | V18: 3.4308099 | W18: 3.4037782 | X18: 3.3786195 | Y18: 3.351734 | Z18: 3.3278358 | AA18: 3.2998096
A19: taux apparent, r = g | C19: 2.2366936 | D19: 2.2619894 | E19: 2.3306582 | F19: 2.391697 | G19: 2.4730224 | H19: 2.5464421 | I19: 2.6060513 | J19: 2.6556456 | K19: 2.6714655 | L19: 2.6855277 | M19: 2.688983 | N19: 2.6841404 | O19: 2.6809665 | P19: 2.6792758 | Q19: 2.6687285 | R19: 2.6491781 | S19: 2.6284083 | T19: 2.5997713 | U19: 2.5697939 | V19: 2.5374946 | W19: 2.4986091 | X19: 2.4629136 | Y19: 2.4266621 | Z19: 2.3944385 | AA19: 2.359012
A21: G6e | B21: ='[4]scénarios COR'!M$2 -> 2025 | C21: ='[4]scénarios COR'!N$2 -> 2026 | D21: ='[4]scénarios COR'!O$2 -> 2027 | E21: ='[4]scénarios COR'!P$2 -> 2028 | F21: ='[4]scénarios COR'!Q$2 -> 2029 | G21: ='[4]scénarios COR'!R$2 -> 2030 | H21: ='[4]scénarios COR'!S$2 -> 2031 | I21: ='[4]scénarios COR'!T$2 -> 2032 | ... AA21: ='[4]scénarios COR'!AL$2 -> 2050
A22: population active | B22: ='[4]scénarios COR'!M18 -> 0.56754762 | C22: ='[4]scénarios COR'!N18 -> 0.53009008 | D22: ='[4]scénarios COR'!O18 -> 0.32604225 | E22: ='[4]scénarios COR'!P18 -> 0.40708532 | F22: ='[4]scénarios COR'!Q18 -> 0.3658253 | G22: ='[4]scénarios COR'!R18 -> 0.37999899 | H22: ='[4]scénarios COR'!S18 -> 0.39643157 | I22: ='[4]scénarios COR'!T18 -> 0.36045161 | ... AA22: ='[4]scénarios COR'!AL18 -> -0.38178493

Sheet G7
B1: Variation 25 50 | E1: % popu totale 2050
B2: Insee 2021 | C2: Insee 2026 | E2: Insee 2021 | F2: Insee 2026
A3: Moins de 18 ans | B3: -0.822795 | C3: -2.929945 | E3: 19.274606 | F3: 16.053452
A4: 18 - 64 ans | B4: -1.799935 | C4: -1.155645 | E4: 53.411534 | F4: 55.907581
A5: 65 ans et plus | B5: 3.873695 | C5: 4.315971 | E5: 27.313861 | F5: 28.038967

Sheet G8
C1: 0-14 | D1: 15-34 | E1: 35-54 | F1: 55-64 | G1: 65-74 | H1: 75+ | I1: Total
C2: Pourcentage | D2: Pourcentage | E2: Pourcentage | F2: Pourcentage | G2: Pourcentage | H2: Pourcentage | I2: Pourcentage
B3: MCV et traitements | C3: 0.0044 | D3: 0.0151 | E3: 0.1083 | F3: 0.3345 | G3: 0.5296 | H3: 0.7569 | I3: 0.2171
C4: 0.2171 | D4: 0.2171 | E4: 0.2171 | F4: 0.2171 | G4: 0.2171 | H4: 0.2171 | I4: 0.2171
B5: Santé mentale | C5: 0.0183 | D5: 0.0619 | E5: 0.128 | F5: 0.1889 | G5: 0.2062 | H5: 0.308 | I5: 0.1309
C6: 0.1309 | D6: 0.1309 | E6: 0.1309 | F6: 0.1309 | G6: 0.1309 | H6: 0.1309 | I6: 0.1309
B7: Cancers | C7: 0.0012 | D7: 0.0046 | E7: 0.0254 | F7: 0.0673 | G7: 0.127 | H7: 0.2037 | I7: 0.053
C8: 0.053 | D8: 0.053 | E8: 0.053 | F8: 0.053 | G8: 0.053 | H8: 0.053 | I8: 0.053
B9: Diabète | C9: 0.0016 | D9: 0.007 | E9: 0.0347 | F9: 0.1069 | G9: 0.1768 | H9: 0.2004 | I9: 0.0661 | M9: G
C10: 0.0661 | D10: 0.0661 | E10: 0.0661 | F10: 0.0661 | G10: 0.0661 | H10: 0.0661 | I10: 0.0661
C31: 0-9 | D31: 10 - 19 | E31: 20-29 | F31: 30-39 | G31: 40-49 | H31: 50-59 | I31: 60-69 | J31: 70-79 | K31: 80-89 | L31: 90+
A32: Dépenses totales moyennes | C32: 924 | D32: 878 | E32: 1433 | F32: 2178 | G32: 2395 | H32: 3672 | I32: 4288 | J32: 5577 | K32: 7666 | L32: 8600
B33: Total | C33: 2978 | D33: 2978 | E33: 2978 | F33: 2978 | G33: 2978 | H33: 2978 | I33: 2978 | J33: 2978 | K33: 2978 | L33: 2978
C57: Dépenses remboursées moyennes | D57: Tous soins confondus
B59: MCV et traitements | C59: 2251 | D59: 3144
B60: Diabète | C60: 2572 | D60: 3144
B61: Santé mentale | C61: 3289 | D61: 3144
B62: Cancers | C62: 8188 | D62: 3144

Sheet G9a
B3: 2015 | C3: 2016 | D3: 2017 | E3: 2018 | F3: 2019 | G3: 2020 | H3: 2021 | I3: 2022 | J3: 2023 | K3: 2024 | L3: 2025 | M3: 2026 | N3: 2027 | O3: 2028 | P3: 2029 | Q3: 2030 | R3: 2031 | S3: 2032 | T3: 2033 | U3: 2034 | V3: 2035 | W3: 2036 | X3: 2037 | Y3: 2038 | Z3: 2039 | AA3: 2040 | AB3: 2041 | AC3: 2042 | AD3: 2043 | AE3: 2044 | AF3: 2045 | AG3: 2046 | AH3: 2047 | AI3: 2048 | AJ3: 2049 | AK3: 2050
A4: Observé
A5: Mds€ constants | B5: 217.87768 | C5: 221.17692 | D5: 226.28899 | E5: 227.95584 | F5: 230.59189 | G5: 235.08543 | H5: 262.0581 | I5: 260.9349 | J5: 258.03201 | K5: 263.67396 | AM5: =AK5/K5-1 -> -1
A7: Projections
A8: Mds€ constants | K8: 263.67497 | L8: 268.87884 | M8: 274.1284 | N8: 279.61464 | O8: 285.05325 | P8: 290.44245 | Q8: 296.05399 | R8: 301.84992 | S8: 307.87827 | T8: 313.99206 | U8: 320.06599 | V8: 326.18467 | W8: 330.77525 | X8: 335.30763 | Y8: 339.71154 | Z8: 343.9051 | AA8: 347.98007 | AB8: 351.9772 | AC8: 355.7635 | AD8: 359.44959 | AE8: 362.96996 | AF8: 366.47949 | AG8: 370.03784 | AH8: 373.56994 | AI8: 377.10364 | AJ8: 380.56813 | AK8: 384.01588 | AM8: 0.45639869

Sheet G9b
B1: 2015 | C1: 2016 | D1: 2017 | E1: 2018 | F1: 2019 | G1: 2020 | H1: 2021 | I1: 2022 | J1: 2023 | K1: 2024 | L1: 2025 | M1: 2026 | N1: 2027 | O1: 2028 | P1: 2029 | Q1: 2030 | R1: 2031 | S1: 2032 | T1: 2033 | U1: 2034 | V1: 2035 | W1: 2036 | X1: 2037 | Y1: 2038 | Z1: 2039 | AA1: 2040 | AB1: 2041 | AC1: 2042 | AD1: 2043 | AE1: 2044 | AF1: 2045 | AG1: 2046 | AH1: 2047 | AI1: 2048 | AJ1: 2049 | AK1: 2050
A2: Autre ALD | B2: 9.8893 | C2: 10.09532 | D2: 10.14606 | E2: 10.2113 | F2: 10.25091 | G2: 9.97335 | H2: 10.26409 | I2: 10.70543 | J2: 10.82515 | K2: 10.961875 | L2: 11.100681 | M2: 11.243902 | N2: 11.387276 | O2: 11.526422 | P2: 11.664104 | Q2: 11.803064 | R2: 11.944552 | S2: 12.090309 | T2: 12.241709 | U2: 12.394303 | V2: 12.547045 | W2: 12.613413 | X2: 12.681866 | Y2: 12.745637 | Z2: 12.804315 | AA2: 12.859968 | AB2: 12.912065 | AC2: 12.949487 | AD2: 12.980963 | AE2: 13.006046 | AF2: 13.031739 | AG2: 13.058604 | AH2: 13.087009 | AI2: 13.11351 | AJ2: 13.138063 | AK2: 13.158704
A3: Cancers | B3: 3.10856 | C3: 3.13621 | D3: 3.22774 | E3: 3.32703 | F3: 3.4001 | G3: 3.42482 | H3: 3.45819 | I3: 3.47684 | J3: 3.51285 | K3: 3.5731797 | L3: 3.6353641 | M3: 3.6977608 | N3: 3.7603411 | O3: 3.8229574 | P3: 3.885309 | Q3: 3.9481041 | R3: 4.0114246 | S3: 4.0792352 | T3: 4.1489006 | U3: 4.2176747 | V3: 4.2867365 | W3: 4.3408004 | X3: 4.392367 | Y3: 4.4391461 | Z3: 4.4818166 | AA3: 4.5226869 | AB3: 4.5608046 | AC3: 4.588654 | AD3: 4.6134396 | AE3: 4.6361272 | AF3: 4.6599696 | AG3: 4.6854203 | AH3: 4.712539 | AI3: 4.7393544 | AJ3: 4.765583 | AK3: 4.789753
A4: Diabète | B4: 3.58918 | C4: 3.66238 | D4: 3.74793 | E4: 3.82284 | F4: 3.91766 | G4: 4.01373 | H4: 4.14063 | I4: 4.25076 | J4: 4.35508 | K4: 4.4648921 | L4: 4.578389 | M4: 4.6959495 | N4: 4.8116639 | O4: 4.925217 | P4: 5.0375189 | Q4: 5.1510649 | R4: 5.2658782 | S4: 5.3793775 | T4: 5.493804 | U4: 5.608031 | V4: 5.7235626 | W4: 5.7716956 | X4: 5.8191158 | Y4: 5.8622275 | Z4: 5.901959 | AA4: 5.9395813 | AB4: 5.976025 | AC4: 6.0023978 | AD4: 6.025829 | AE4: 6.0453304 | AF4: 6.0652516 | AG4: 6.0885662 | AH4: 6.1131449 | AI4: 6.1381567 | AJ4: 6.1600881 | AK4: 6.1790574
A5: MCV et traitements | B5: 13.46591 | C5: 13.46779 | D5: 13.45846 | E5: 13.44872 | F5: 13.50303 | G5: 13.51892 | H5: 13.68458 | I5: 13.90003 | J5: 14.25296 | K5: 14.376782 | L5: 14.505227 | M5: 14.635353 | N5: 14.758527 | O5: 14.873206 | P5: 14.978242 | Q5: 15.08027 | R5: 15.178921 | S5: 15.27588 | T5: 15.373474 | U5: 15.463884 | V5: 15.550266 | W5: 15.705318 | X5: 15.862696 | Y5: 16.008331 | Z5: 16.142402 | AA5: 16.269891 | AB5: 16.39183 | AC5: 16.484545 | AD5: 16.567186 | AE5: 16.636457 | AF5: 16.70574 | AG5: 16.780745 | AH5: 16.858707 | AI5: 16.937175 | AJ5: 17.010419 | AK5: 17.076902
A6: Santé mentale | B6: 8.23956 | C6: 8.24196 | D6: 8.19439 | E6: 8.19656 | F6: 8.21634 | G6: 8.31599 | H6: 8.47592 | I6: 8.49867 | J6: 8.62745 | K6: 8.6962392 | L6: 8.7684963 | M6: 8.8456911 | N6: 8.9217763 | O6: 8.9962507 | P6: 9.0685792 | Q6: 9.1428845 | R6: 9.2198257 | S6: 9.3000229 | T6: 9.3847537 | U6: 9.4684886 | V6: 9.5543658 | W6: 9.5996372 | X6: 9.6462328 | Y6: 9.6872104 | Z6: 9.722314 | AA6: 9.7549664 | AB6: 9.7848757 | AC6: 9.8056205 | AD6: 9.8206044 | AE6: 9.8297718 | AF6: 9.8382296 | AG6: 9.8467851 | AH6: 9.8570485 | AI6: 9.8665397 | AJ6: 9.8776897 | AK6: 9.8869182
AK8: =SUM(AK2:AK6) -> 51.091335 | AL8: =AK8-L8 -> 51.091335

Sheet G10ab
B1: Prévalence perte autonomie , 2023 | F1: Part des bénéficiaires de l'APA dans la population de plus de 60 ans, en 2023
B3: Besoins modérés (GIR 3-4) | C3: Besoins importants (GIR 1-2) | D3: Total (GIR 1-4)
A4: 60 à 74 ans | B4: 3.7 | C4: 0.68 | D4: =SUM(B4:C4) -> 4.38 | F4: En % | H4: Etablissement | I4: Domicile | J4: TOTAL
A5: 75 à 84 ans | B5: 8.86 | C5: 3.91 | D5: =SUM(B5:C5) -> 12.77 | F5: Total | G5: 60-64 ans | H5: 0.18771938 | I5: 0.31711192 | J5: 0.5048313
A6: 85 ans et plus | B6: 23.43 | C6: 18.1 | D6: =SUM(B6:C6) -> 41.53 | G6: 65-69 ans | H6: 0.45094423 | I6: 1.006816 | J6: 1.4577603
G7: 70-74 ans | H7: 0.83365053 | I7: 1.9714853 | J7: 2.8051358
G8: 75-79 ans | H8: 1.6380317 | I8: 3.7832349 | J8: 5.4212666
G9: 80-84 ans | H9: 3.8656888 | I9: 8.005631 | J9: 11.87132
G10: 85-89 ans | H10: 9.0733031 | I10: 14.915566 | J10: 23.988869
G11: 90-94 ans | H11: 20.407185 | I11: 22.89999 | J11: 43.307175
G12: 95+ ans | H12: 43.690441 | I12: 27.27096 | J12: 70.9614

Sheet G10c
C2: Etablissements | I2: Domicile
C3: Besoins importants | E3: Besoins modérés | G3: GIR 1-4 | I3: Besoins importants | K3: Besoins modérés | M3: GIR 1-4
C4: GIR 1 | D4: GIR 2 | E4: GIR 3 | F4: GIR 4 | I4: GIR 1 | J4: GIR 2 | K4: GIR 3 | L4: GIR 4
B5: Dépenses publiques | C5: 29400 | D5: 26500 | E5: 21300 | F5: 16900 | G5: 23500 | I5: 32200 | J5: 21600 | K5: 14800 | L5: 7300 | M5: 12100
B6: Reste à charge | C6: 13900 | D6: 13900 | E6: 13900 | F6: 13900 | G6: 13900 | I6: 1100 | J6: 1000 | K6: 700 | L6: 400 | M6: 600
B7: Total | C7: 43300 | D7: 40300 | E7: 35100 | F7: 30700 | G7: 37400 | I7: 33300 | J7: 22500 | K7: 15500 | L7: 7700 | M7: 12700
B8: % reste à charge | C8: =C6/C7 -> 0.32101617 | D8: =D6/D7 -> 0.34491315 | E8: =E6/E7 -> 0.3960114 | F8: =F6/F7 -> 0.45276873 | G8: =G6/G7 -> 0.37165775 | I8: =I6/I7 -> 0.033033033 | J8: =J6/J7 -> 0.044444444 | K8: =K6/K7 -> 0.04516129 | L8: =L6/L7 -> 0.051948052 | M8: =M6/M7 -> 0.047244094
C13: Etablissements | K13: Domicile

Sheet G11a
B1: Dépenses ENSA - Personnes âgées en perte d'autonomie (Mds€ 2024)
C2: 2010 | D2: 2011 | E2: 2012 | F2: 2013 | G2: 2014 | H2: 2015 | I2: 2016 | J2: 2017 | K2: 2018 | L2: 2019 | M2: 2020 | N2: 2021 | O2: 2022 | P2: 2023 | Q2: 2024 | R2: 2025 | S2: 2026 | T2: 2027 | U2: 2028 | V2: 2029 | W2: 2030 | X2: 2031 | Y2: 2032 | Z2: 2033 | AA2: 2034 | AB2: 2035 | AC2: 2036 | AD2: 2037 | AE2: 2038 | AF2: 2039 | AG2: 2040 | AH2: 2041 | AI2: 2042 | AJ2: 2043 | AK2: 2044 | AL2: 2045 | AM2: 2046 | AN2: 2047 | AO2: 2048 | AP2: 2049 | AQ2: 2050
B3: Mds€ 2025
B4: Observé | C4: 20.596688 | D4: 21.101509 | E4: 21.808258 | F4: 22.111151 | G4: 22.212115 | H4: 24.635255 | I4: 24.837183 | J4: 24.938147 | K4: 26.048753 | L4: 26.755502 | M4: 29.077678 | N4: 30.491176 | O4: 30.390212 | P4: 30.794069 | Q4: 31.399854
B5: Projections | Q5: 31.399854 | R5: 32.133041 | S5: 32.878035 | T5: 33.66702 | U5: 34.475099 | V5: 35.313766 | W5: 36.206991 | X5: 37.171925 | Y5: 38.224602 | Z5: 39.339377 | AA5: 40.475007 | AB5: 41.61704 | AC5: 42.751421 | AD5: 43.847101 | AE5: 44.92968 | AF5: 45.984342 | AG5: 47.000893 | AH5: 47.985343 | AI5: 48.876386 | AJ5: 49.758507 | AK5: 50.54874 | AL5: 51.276991 | AM5: 51.947719 | AN5: 52.564867 | AO5: 53.136453 | AP5: 53.701321 | AQ5: 54.245637 | AS5: 0.68815756

Sheet G11b
C1: GIR 1-2 | D1: GIR 3-4 | E1: Total
B2: Domicile | C2: 60.126421 | D2: 175.8777 | E2: 236.00413
B3: Etablissement | C3: 185.52273 | D3: 124.61674 | E3: 310.13947
B4: Total de bénéficiaires de l'APA | C4: 245.64915 | D4: 300.49445 | E4: 546.1436

Sheet G12a
C1: < 3 ans | D1: 3 ans | E1: 4 ans | F1: 5 ans | G1: 6 ans | H1: 7 ans | I1: 8 ans | J1: 9 ans | K1: 10 ans | L1: 11 ans | M1: 12 ans | N1: 13 ans | O1: 14 ans | P1: 15 ans | Q1: 16 ans | R1: 17 ans | S1: 18 ans
B2: Petite enfance | C2: 57.6
A3: Education nationale | B3: Préélémentaire | C3: 3.3 | D3: 99.8 | E3: 100 | F3: 100
B4: Elémentaire | G4: 100 | H4: 100 | I4: 100 | J4: 100 | K4: 98.5 | L4: 7.2 | M4: 0.1
B5: Secondaire | K5: 2.3 | L5: 93 | M5: 99.7 | N5: 99 | O5: 99.1 | P5: =88.8+4.4 -> 93.2 | Q5: =83.7+3.8 -> 87.5 | R5: =77.7+3.4 -> 81.1 | S5: =14.5+1.3 -> 15.8

Sheet G12b
D1: 2025 | E1: 2026 | F1: 2027 | G1: 2028 | H1: 2029 | I1: 2030 | J1: 2031 | K1: 2032 | L1: 2033 | M1: 2034 | N1: 2035 | O1: 2036 | P1: 2037 | Q1: 2038 | R1: 2039 | S1: 2040 | T1: 2041 | U1: 2042 | V1: 2043 | W1: 2044 | X1: 2045 | Y1: 2046 | Z1: 2047 | AA1: 2048 | AB1: 2049 | AC1: 2050
C3: Petite enfance | D3: 100 | E3: 96.08964 | F3: 94.157631 | G3: 92.061944 | H3: 89.917009 | I3: 88.340794 | J3: 87.594488 | K3: 87.664339 | L3: 87.746697 | M3: 87.842807 | N3: 87.953292 | O3: 88.075661 | P3: 88.205659 | Q3: 88.335864 | R3: 88.458441 | S3: 88.560778 | T3: 88.628709 | U3: 88.647962 | V3: 88.608003 | W3: 88.501877 | X3: 88.322423 | Y3: 88.062791 | Z3: 87.715819 | AA3: 87.277875 | AB3: 86.746987 | AC3: 86.122583
C4: Préélémentaire | D4: 100 | E4: 98.390715 | F4: 95.744158 | G4: 92.14468 | H4: 88.746415 | I4: 86.935825 | J4: 85.043108 | K4: 83.128133 | L4: 81.720617 | M4: 81.054329 | N4: 81.117164 | O4: 81.191083 | P4: 81.27743 | Q4: 81.376575 | R4: 81.486201 | S4: 81.602737 | T4: 81.719458 | U4: 81.829316 | V4: 81.921273 | W4: 81.9823 | X4: 81.999876 | Y4: 81.964586 | Z4: 81.870217 | AA4: 81.710369 | AB4: 81.478874 | AC4: 81.169334
C5: Elémentaire | D5: 100 | E5: 98.519944 | F5: 97.211153 | G5: 96.361505 | H5: 95.371344 | I5: 93.395532 | J5: 91.083408 | K5: 88.853732 | L5: 86.220378 | M5: 83.689472 | N5: 81.91262 | O5: 80.49598 | P5: 79.465589 | Q5: 78.717726 | R5: 78.38121 | S5: 78.449925 | T5: 78.529519 | U5: 78.619253 | V5: 78.717446 | W5: 78.82048 | X5: 78.923106 | Y5: 79.017401 | Z5: 79.093785 | AA5: 79.142066 | AB5: 79.152742 | AC5: 79.116868
C6: Secondaire | D6: 100 | E6: 100.01264 | F6: 99.648522 | G6: 98.938762 | H6: 97.67655 | I6: 96.649112 | J6: 95.572903 | K6: 94.361841 | L6: 93.247524 | M6: 92.096212 | N6: 90.457255 | O6: 88.838225 | P6: 87.076126 | Q6: 85.147852 | R6: 83.25975 | S6: 81.031247 | T6: 79.134146 | U6: 77.988955 | V6: 77.081399 | W6: 76.42871 | X6: 75.963505 | Y6: 75.769734 | Z6: 75.842459 | AA6: 75.923333 | AB6: 76.01018 | AC6: 76.099838

Sheet G13
C2: 2013 | D2: 2014 | E2: 2015 | F2: 2016 | G2: 2017 | H2: 2018 | I2: 2019 | J2: 2020 | K2: 2021 | L2: 2022 | M2: 2023 | N2: 2024 | O2: 2025 | P2: 2026 | Q2: 2027 | R2: 2028 | S2: 2029 | T2: 2030 | U2: 2031 | V2: 2032 | W2: 2033 | X2: 2034 | Y2: 2035 | Z2: 2036 | AA2: 2037 | AB2: 2038 | AC2: 2039 | AD2: 2040 | AE2: 2041 | AF2: 2042 | AG2: 2043 | AH2: 2044 | AI2: 2045 | AJ2: 2046 | AK2: 2047 | AL2: 2048 | AM2: 2049 | AN2: 2050
A3: Observé | B3: Mds constants 2025 | C3: 16.932143 | D3: 17.301245 | E3: 17.072249 | F3: 17.043097 | G3: 16.894917 | H3: 16.047919 | I3: 16.088727 | J3: 14.729568 | K3: 14.977141 | L3: 15.526717 | M3: 15.184737 | N3: 15.425304
A4: Projections | N4: 15.425304 | O4: 14.97224 | P4: 14.481586 | Q4: 14.270434 | R4: 14.040415 | S4: 13.813679 | T4: 13.712172 | U4: 13.745702 | V4: 13.914635 | W4: 14.08542 | X4: 14.258565 | Y4: 14.433531 | Z4: 14.61103 | AA4: 14.790423 | AB4: 14.972277 | AC4: 15.156246 | AD4: 15.342317 | AE4: 15.530746 | AF4: 15.568832 | AG4: 15.607213 | AH4: 15.645635 | AI4: 15.683872 | AJ4: 15.722596 | AK4: 15.761132 | AL4: 15.800082 | AM4: 15.838823 | AN4: 15.877703 | AP4: 0.90546295 | AQ4: 0.060476118
B24: Garde à domicile | C24: -5.883064
B25: Ecole préélémentaire | C25: -8.824596
B26: Crèche (EAJE) | C26: -62.84182
B27: Assistante maternelle | C27: -85.304428
B28: Accueil formel total | C28: -162.85391

Sheet G14a
A1: Évolution des dépenses publiques d’enseignement préélémentaire, élémentaire et secondaire, 2015-2050 (en milliards d’euros constants de 2025)
B2: Annuel | E2: 2015 | F2: 2016 | G2: 2017 | H2: 2018 | I2: 2019 | J2: 2020 | K2: 2021 | L2: 2022 | M2: 2023 | N2: 2024 | O2: 2025 | P2: 2026 | Q2: 2027 | R2: 2028 | S2: 2029 | T2: 2030 | U2: 2031 | V2: 2032 | W2: 2033 | X2: 2034 | Y2: 2035 | Z2: 2036 | AA2: 2037 | AB2: 2038 | AC2: 2039 | AD2: 2040 | AE2: 2041 | AF2: 2042 | AG2: 2043 | AH2: 2044 | AI2: 2045 | AJ2: 2046 | AK2: 2047 | AL2: 2048 | AM2: 2049 | AN2: 2050
C4: Mds constants 2025 | D4: Observé | E4: 100.63388 | F4: 100.91642 | G4: 103.07289 | H4: 103.50324 | I4: 104.36238 | J4: 102.69726 | K4: 105.40007 | L4: 107.5663 | M4: 112.35144 | N4: 114.82748
D5: Projections | N5: 114.82748 | O5: 110.5107 | P5: 109.5811 | Q5: 109.95933 | R5: 109.94393 | S5: 109.72613 | T5: 109.41391 | U5: 109.22607 | V5: 108.91852 | W5: 108.63363 | X5: 108.31592 | Y5: 108.08014 | Z5: 107.91281 | AA5: 107.81069 | AB5: 107.72988 | AC5: 107.63344 | AD5: 107.6319 | AE5: 107.59298 | AF5: 107.67009 | AG5: 108.02744 | AH5: 108.4723 | AI5: 109.01232 | AJ5: 109.61831 | AK5: 110.31967 | AL5: 111.1177 | AM5: 111.90222 | AN5: 112.67271

Sheet G14b
A1: Taux d’encadrement dans les premier et second degrés d’enseignement (nombre d’élèves par enseignant ETP)
E2: 2015 | F2: 2016 | G2: 2017 | H2: 2018 | I2: 2019 | J2: 2020 | K2: 2021 | L2: 2022 | M2: 2023 | N2: 2024 | O2: 2025 | P2: 2026 | Q2: 2027 | R2: 2028 | S2: 2029 | T2: 2030 | U2: 2031 | V2: 2032 | W2: 2033 | X2: 2034 | Y2: 2035 | Z2: 2036 | AA2: 2037 | AB2: 2038 | AC2: 2039 | AD2: 2040 | AE2: 2041 | AF2: 2042 | AG2: 2043 | AH2: 2044 | AI2: 2045 | AJ2: 2046 | AK2: 2047 | AL2: 2048 | AM2: 2049 | AN2: 2050
B4: Encadrement | C4: Premier degré | D4: Observé | E4: 21.052625 | F4: 20.788172 | G4: 20.504348 | H4: 20.135872 | I4: 19.914711 | J4: 19.541037 | K4: 19.395461 | L4: 19.240282 | M4: 19.061288
C5: Second degré | E5: 12.959594 | F5: 12.938525 | G5: 12.917271 | H5: 12.927685 | I5: 13.073851 | J5: 13.062924 | K5: 13.232267 | L5: 13.227344 | M5: 13.220479
D7: Projections | M7: 19.1 | N7: 19.1 | O7: 19.1 | P7: 18.982346 | Q7: 18.843343 | R7: 18.699471 | S7: 18.552359 | T7: 18.397495 | U7: 18.220221 | V7: 18.044144 | W7: 17.858547 | X7: 17.698599 | Y7: 17.60161 | Z7: 17.524508 | AA7: 17.469171 | AB7: 17.430004 | AC7: 17.414376 | AD7: 17.42188 | AE7: 17.429998 | AF7: 17.43847 | AG7: 17.446858 | AH7: 17.454556 | AI7: 17.460882 | AJ7: 17.4651 | AK7: 17.466482 | AL7: 17.464255 | AM7: 17.457689 | AN7: 17.446072
M8: 13.2 | N8: 13.2 | O8: 13.2 | P8: 13.200667 | Q8: 13.181401 | R8: 13.143686 | S8: 13.076096 | T8: 13.020729 | U8: 12.962343 | V8: 12.896138 | W8: 12.834788 | X8: 12.770927 | Y8: 12.679036 | Z8: 12.587278 | AA8: 12.486208 | AB8: 12.374117 | AC8: 12.262882 | AD8: 12.129449 | AE8: 12.014241 | AF8: 11.944086 | AG8: 11.888098 | AH8: 11.847628 | AI8: 11.818676 | AJ8: 11.806599 | AK8: 11.811129 | AL8: 11.816164 | AM8: 11.821566 | AN8: 11.82714

Sheet G15a
A1: Variation du nombre de familles bénéficiaires et du montant mensuel moyen des prestations familiales, 2016-2023
C2: 2016/ 2021 | D2: 2021/ 2023 | E2: Cumulé
B3: Familles bénéficiaires (en milliers) | C3: -147 | D3: -94 | E3: -241
B4: Montant mensuel moyen (en € constants) | C4: -31.619288 | D4: 18.443701 | E4: -13.175586

Sheet G15b
A1: Évolution du pouvoir d’achat relatif des prestations familiales, 2002-2025 (base 2002 = 100)
B2: 2002 | C2: 2003 | D2: 2004 | E2: 2005 | F2: 2006 | G2: 2007 | H2: 2008 | I2: 2009 | J2: 2010 | K2: 2011 | L2: 2012 | M2: 2013 | N2: 2014 | O2: 2015 | P2: 2016 | Q2: 2017 | R2: 2018 | S2: 2019 | T2: 2020 | U2: 2021 | V2: 2022 | W2: 2023 | X2: 2024 | Y2: 2025
A3: BMAF | B3: 100 | C3: 101.69948 | D3: 103.4282 | E3: 105.70392 | F3: 107.60523 | G3: 109.43341 | H3: 110.52739 | I3: 113.84444 | J3: 113.84444 | K3: 115.5527 | L3: 116.71103 | M3: 118.11215 | N3: 118.82002 | O3: 118.82002 | P3: 118.93995 | Q3: 119.29681 | R3: 120.49024 | S3: 120.85296 | T3: 121.21567 | U3: 121.3356 | V3: 123.52064 | W3: 130.43847 | X3: 136.43783 | Y3: 138.75157
A4: IPCHT | B4: 100 | C4: 101.59934 | D4: 103.54223 | E4: 105.2245 | F4: 106.81199 | G4: 109.51309 | H4: 110.61486 | I4: 111.52707 | J4: 113.42258 | K4: 116.14738 | L4: 117.55716 | M4: 118.31537 | N4: 118.30352 | O4: 118.51676 | P4: 119.25127 | Q4: 120.55444 | R4: 122.21301 | S4: 123.67018 | T4: 123.31477 | U4: 126.79777 | V4: 134.36797 | W4: 139.20152 | X4: 140.83639 | Y4: 141.87892
A5: Salaire net moyen | B5: 100 | C5: 102.10719 | D5: 104.41643 | E5: 107.3944 | F5: 109.36688 | G5: 112.83556 | H5: 116.30905 | I5: 117.85336 | J5: 120.23477 | K5: 123.21274 | L5: 125.08419 | M5: 125.88281 | N5: 127.17695 | O5: 128.65871 | P5: 129.41884 | Q5: 131.94458 | R5: 134.82151 | S5: 137.74175 | T5: 142.63928 | U5: 142.2544 | V5: 147.78216 | W5: 153.4783 | X5: 157.75522

Sheet G16
A1: Dynamique tendancielle des dépenses publiques liées aux prestations familiales (en milliards d’euros constants de 2025)
E2: Annuel | F2: 2015 | G2: 2016 | H2: 2017 | I2: 2018 | J2: 2019 | K2: 2020 | L2: 2021 | M2: 2022 | N2: 2023 | O2: 2024 | P2: 2025 | Q2: 2026 | R2: 2027 | S2: 2028 | T2: 2029 | U2: 2030 | V2: 2031 | W2: 2032 | X2: 2033 | Y2: 2034 | Z2: 2035 | AA2: 2036 | AB2: 2037 | AC2: 2038 | AD2: 2039 | AE2: 2040 | AF2: 2041 | AG2: 2042 | AH2: 2043 | AI2: 2044 | AJ2: 2045 | AK2: 2046 | AL2: 2047 | AM2: 2048 | AN2: 2049 | AO2: 2050
C3: Mds€ constants | D3: Observé | F3: 31.083583 | G3: 30.239608 | H3: 29.872776 | I3: 29.572929 | J3: 29.048153 | K3: 28.643211 | L3: 27.6544 | M3: 27.633157 | N3: 27.931368 | O3: 28.840319
D4: Projections | O4: 28.840319 | P4: 28.551609 | Q4: 28.369547 | R4: 28.123129 | S4: 27.781321 | T4: 27.399357 | U4: 26.956461 | V4: 26.552689 | W4: 26.145798 | X4: 25.758781 | Y4: 25.374662 | Z4: 25.025147 | AA4: 24.707895 | AB4: 24.420813 | AC4: 24.147553 | AD4: 23.876557 | AE4: 23.640988 | AF4: 23.395609 | AG4: 23.187599 | AH4: 23.065297 | AI4: 22.967361 | AJ4: 22.894302 | AK4: 22.837986 | AL4: 22.805848 | AM4: 22.796987 | AN4: 22.779199 | AO4: 22.751665 | AQ4: -0.20313898

Sheet G17
A1: Coûts des aléas climatiques pris en charge par le public
B2: Climat actuel (moyenne 2019 - 2023) | C2: Climat futur (2050) | E2: Augmentation (nombre de fois)
A3: Inondations | B3: 0.5 | C3: 1.4439681 | D3: 0.94396814 | E3: 2.8879363
A4: Sécheresse | B4: 1.35 | C4: 3.59856 | D4: 2.24856 | E4: 2.6656
A5: Tempêtes (TGN) | B5: 2.16 | C5: 2.4444318 | D5: 0.28443177 | E5: 1.1316814
A6: Total | B6: 4.01 | C6: 7.4869599 | D6: 3.4769599 | E6: 1.8670723

Sheet G18
A1: Dépenses publiques annuelles pour la prise en charge des dommages liés aux événements climatiques extrêmes, 2025-2050 (en milliards d’euros constants de 2025)
C2: 2025 | D2: 2026 | E2: 2027 | F2: 2028 | G2: 2029 | H2: 2030 | I2: 2031 | J2: 2032 | K2: 2033 | L2: 2034 | M2: 2035 | N2: 2036 | O2: 2037 | P2: 2038 | Q2: 2039 | R2: 2040 | S2: 2041 | T2: 2042 | U2: 2043 | V2: 2044 | W2: 2045 | X2: 2046 | Y2: 2047 | Z2: 2048 | AA2: 2049 | AB2: 2050
B3: Intervention Etat | C3: 0 | D3: 0 | E3: 0 | F3: 0.29778224 | G3: 0.46176761 | H3: 0.53242399 | I3: 0.59430212 | J3: 0.6558571 | K3: 0.71793443 | L3: 0.78061867 | M3: 0.84391826 | N3: 0.90783405 | O3: 0.97236613 | P3: 1.0375145 | Q3: 1.1032792 | R3: 1.1696601 | S3: 1.2366574 | T3: 1.304271 | U3: 1.3725008 | V3: 1.441347 | W3: 1.5108094 | X3: 1.5808882 | Y3: 1.6515832 | Z3: 1.7228945 | AA3: 1.7948222 | AB3: 1.8673661

Sheet G19a
C2: Investissements totaux | E2: 2011 | I2: 2015 | N2: 2020 | S2: 2025 | X2: 2030 | AC2: 2035 | AH2: 2040 | AM2: 2045 | AR2: 2050
